BEGIN:VCALENDAR
VERSION:2.0
PRODID:-//wp-events-plugin.com//7.2.3.1//EN
TZID:Europe/Helsinki
X-WR-TIMEZONE:Europe/Helsinki
BEGIN:VEVENT
UID:0-103@ilmailuliitto.fi
DTSTART;TZID=Europe/Helsinki:20260706T090000
DTEND;TZID=Europe/Helsinki:20260712T120000
DTSTAMP:20260309T130459Z
URL:https://ilmailuliitto.fi/tapahtumat/alavus-atmo-2026-laskuvarjohyppyta
 pahtuma/
SUMMARY:Alavus Atmo 2026 -laskuvarjohyppytapahtuma
DESCRIPTION:Legendaksi muodostunut Atmo-viikko tulee jälleen!\n\nHeinäkuu
 ssa treenataan kulmaa Alavus Atmoksi nimetyllä aktiiviviikolla 6.–12.7.
  Kyseessä on tiivis\, intensiivinen ja tehokas maanantaista perjantaihin 
 (lauantai varapäivänä) jatkuva skillscamp kaikentasoisille hyppääjill
 e\, jotka haluavat hioa kulmailutaitojaan. Hyppääminen tapahtuu ryhmiss
 ä\, jotka jaetaan osallistujien taitotason ja tavoitteiden mukaan. Jokain
 en ryhmä saa oman koutsinsa. Lisäksi 1on1-hypyt ovat mahdollisia.\n\nPai
 kkoja viikolle on rajoitetusti. Viime vuonna useampi jäi nuolemaan näppe
 jään\, joten kannattaa ottaa tapahtuma seurantaan ja olla hereillä kun 
 ilmoittautuminen myöhemmin avataan. Hyppääminen tapahtuu 4-5 pokan sykl
 eissä\, eli erittäin intensiivisesti. \n\nPoka-aika Soloylla on noin 18 
 minuuttia! Ilmoittautuminen\, hinnasto ja lisätietoja tulossa kevään ai
 kana.
LOCATION:Alavuden lentokenttä\,  Alavuden lentokenttä\, Savikonkydöntie 
 129\, 63300 Alavus\, Alavus\, Suomi
GEO:62.554426;23.567533
X-APPLE-STRUCTURED-LOCATION;VALUE=URI;X-ADDRESS= Alavuden lentokenttä\, Sa
 vikonkydöntie 129\, 63300 Alavus\, Alavus\, Suomi;X-APPLE-RADIUS=100;X-TI
 TLE=Alavuden lentokenttä:geo:62.554426,23.567533
END:VEVENT
BEGIN:VTIMEZONE
TZID:Europe/Helsinki
X-LIC-LOCATION:Europe/Helsinki
BEGIN:DAYLIGHT
DTSTART:20260329T040000
TZOFFSETFROM:+0200
TZOFFSETTO:+0300
TZNAME:EEST
END:DAYLIGHT
END:VTIMEZONE
END:VCALENDAR