BEGIN:VCALENDAR
VERSION:2.0
PRODID:-//wp-events-plugin.com//7.2.3.1//EN
TZID:Europe/Helsinki
X-WR-TIMEZONE:Europe/Helsinki
BEGIN:VEVENT
UID:0-69@ilmailuliitto.fi
DTSTART;TZID=Europe/Helsinki:20250726T110000
DTEND;TZID=Europe/Helsinki:20250726T170000
DTSTAMP:20250708T073559Z
URL:https://ilmailuliitto.fi/tapahtumat/avoimet-ovet-hallinportin-ilmailum
 useo/
SUMMARY:Avoimet ovet\, Hallinportin ilmailumuseo
DESCRIPTION:Lentotekniikan kilta järjestää avoimet ovat Hallinportti-ilm
 ailumuseolla.\n\nMuseolla on avoimet ovet sekä esittelykierroksia. Näyti
 llä on myös kentänhoitokalustoa.\nMyynnissä on mm. Killan tuotteita.\n
 \nSamalla lentokentällä on taitolennon SM-kilpailut.\nHallissa on paljon
  nähtävää samana viikonloppuna.\n\nTervetuloa!
CATEGORIES:Avoimet ovet
LOCATION:Hallinportti ilmailumuseo\, Haukilahdentie 3\, Halli\, Halli\, Suo
 mi
GEO:61.85718;24.821768
X-APPLE-STRUCTURED-LOCATION;VALUE=URI;X-ADDRESS=Haukilahdentie 3\, Halli\, 
 Halli\, Suomi;X-APPLE-RADIUS=100;X-TITLE=Hallinportti ilmailumuseo:geo:61.
 85718,24.821768
END:VEVENT
BEGIN:VTIMEZONE
TZID:Europe/Helsinki
X-LIC-LOCATION:Europe/Helsinki
BEGIN:DAYLIGHT
DTSTART:20250330T040000
TZOFFSETFROM:+0200
TZOFFSETTO:+0300
TZNAME:EEST
END:DAYLIGHT
END:VTIMEZONE
END:VCALENDAR