BEGIN:VCALENDAR
VERSION:2.0
PRODID:-//wp-events-plugin.com//7.2.3.1//EN
TZID:Europe/Helsinki
X-WR-TIMEZONE:Europe/Helsinki
BEGIN:VEVENT
UID:0-108@ilmailuliitto.fi
DTSTART;TZID=Europe/Helsinki:20260801T100000
DTEND;TZID=Europe/Helsinki:20260801T150000
DTSTAMP:20260401T081436Z
URL:https://ilmailuliitto.fi/tapahtumat/ilmailupaiva-ylivieskan-lentokenta
 lla/
SUMMARY:Ilmailupäivä Ylivieskan lentokentällä
DESCRIPTION:Kalajokilaakson ilmailukerho\, Kalajoen varjoliitäjät ja Yliv
 ieskan lennokkiharrastajat esittelevät toimintaansa ja kalustoaan. Yleis
 öllä vapaa pääsy paikalle.  Ilma-aluksille on paikoitustilaa. Saatavi
 lla on myös AVGAS 100LL:ää.
LOCATION:\, Lentokentäntie 196\, 84100 Ylivieska \, Ylivieska\, Suomi
GEO:64.053998;24.72035
X-APPLE-STRUCTURED-LOCATION;VALUE=URI;X-ADDRESS=Lentokentäntie 196\, 84100
  Ylivieska \, Ylivieska\, Suomi;X-APPLE-RADIUS=100;X-TITLE=:geo:64.053998
 ,24.72035
END:VEVENT
BEGIN:VTIMEZONE
TZID:Europe/Helsinki
X-LIC-LOCATION:Europe/Helsinki
BEGIN:DAYLIGHT
DTSTART:20260329T040000
TZOFFSETFROM:+0200
TZOFFSETTO:+0300
TZNAME:EEST
END:DAYLIGHT
END:VTIMEZONE
END:VCALENDAR