BEGIN:VCALENDAR
VERSION:2.0
PRODID:-//wp-events-plugin.com//7.2.3.1//EN
TZID:Europe/Helsinki
X-WR-TIMEZONE:Europe/Helsinki
BEGIN:VEVENT
UID:0-38@ilmailuliitto.fi
DTSTART;TZID=Europe/Helsinki;VALUE=DATE:20250628
DTEND;TZID=Europe/Helsinki;VALUE=DATE:20250714
DTSTAMP:20250319T084545Z
URL:https://ilmailuliitto.fi/tapahtumat/immolan-purjelentoleiri/
SUMMARY:Immolan purjelentoleiri
DESCRIPTION:Ohjelmassa on paikallis- ja matkalentoja erilaisilla purjelento
 koneilla. Samaan aikaan on myös Wanhojen puukoneiden lentoleiri. Leirin a
 ikana järjestetään myös esittelylentoja purjelentokoneella. Lentotoimi
 nnassa on säävaraus.\n\nLisätietoja
CATEGORIES:Purjelento
LOCATION:Immolan lentokenttä (EFIM)\, Linkokivenkatu 131\, 55910 Imatra\, 
 Imatra\, 55910\, Suomi
GEO:61.247244;28.89403
X-APPLE-STRUCTURED-LOCATION;VALUE=URI;X-ADDRESS=Linkokivenkatu 131\, 55910 
 Imatra\, Imatra\, 55910\, Suomi;X-APPLE-RADIUS=100;X-TITLE=Immolan lentoke
 nttä (EFIM):geo:61.247244,28.89403
END:VEVENT
BEGIN:VTIMEZONE
TZID:Europe/Helsinki
X-LIC-LOCATION:Europe/Helsinki
BEGIN:DAYLIGHT
DTSTART:20250330T040000
TZOFFSETFROM:+0200
TZOFFSETTO:+0300
TZNAME:EEST
END:DAYLIGHT
END:VTIMEZONE
END:VCALENDAR