BEGIN:VCALENDAR
VERSION:2.0
PRODID:-//wp-events-plugin.com//7.2.3.1//EN
TZID:Europe/Helsinki
X-WR-TIMEZONE:Europe/Helsinki
BEGIN:VEVENT
UID:0-114@ilmailuliitto.fi
DTSTART;TZID=Europe/Helsinki:20260905T090000
DTEND;TZID=Europe/Helsinki:20260905T180000
DTSTAMP:20260420T060002Z
URL:https://ilmailuliitto.fi/tapahtumat/purjelennon-maaliinlaskun-sm-2026/
SUMMARY:Purjelennon Maaliinlaskun SM-2026
DESCRIPTION:Purjelennon tarkkuus- eli maaliinlaskukilpailut. Varapäivä 06
 .09. 2026
LOCATION:Lentoasemantie 42a 99600 SODANKYLÄ\,  Sodankylän lentoasema EFSO
 \, Lentoasemantie 42a 99600 SODANKYLÄ\, Sodankylä\, Suomi
GEO:67.395291;26.618936
X-APPLE-STRUCTURED-LOCATION;VALUE=URI;X-ADDRESS= Sodankylän lentoasema EFS
 O\, Lentoasemantie 42a 99600 SODANKYLÄ\, Sodankylä\, Suomi;X-APPLE-RADIU
 S=100;X-TITLE=Lentoasemantie 42a 99600 SODANKYLÄ:geo:67.395291,26.618936
END:VEVENT
BEGIN:VTIMEZONE
TZID:Europe/Helsinki
X-LIC-LOCATION:Europe/Helsinki
BEGIN:DAYLIGHT
DTSTART:20260329T040000
TZOFFSETFROM:+0200
TZOFFSETTO:+0300
TZNAME:EEST
END:DAYLIGHT
END:VTIMEZONE
END:VCALENDAR