BEGIN:VCALENDAR
VERSION:2.0
PRODID:-//wp-events-plugin.com//7.2.3.1//EN
TZID:Europe/Helsinki
X-WR-TIMEZONE:Europe/Helsinki
BEGIN:VEVENT
UID:0-32@ilmailuliitto.fi
DTSTART;TZID=Europe/Helsinki;VALUE=DATE:20250609
DTEND;TZID=Europe/Helsinki;VALUE=DATE:20250616
DTSTAMP:20250320T060519Z
URL:https://ilmailuliitto.fi/tapahtumat/riippuliidon-sm-kilpailut/
SUMMARY:Riippuliidon SM-kilpailut
DESCRIPTION:Riippuliidon SM-kilpailut järjestetään Jämillä 9.—15.6. 
 Kyseessä FAI 2 -kategorian avoimet kilpailut myös ulkomaisille kilpailij
 oille.\n\nLisätiedot
CATEGORIES:Riippuliito
LOCATION:Jämin lentokenttä\, Jämintie 655\, 38800 Jämijärvi\, Jämijä
 rvi\, Suomi\, 38800\, Suomi
GEO:61.777802;22.717087
X-APPLE-STRUCTURED-LOCATION;VALUE=URI;X-ADDRESS=Jämintie 655\, 38800 Jämi
 järvi\, Jämijärvi\, Suomi\, 38800\, Suomi;X-APPLE-RADIUS=100;X-TITLE=J
 ämin lentokenttä:geo:61.777802,22.717087
END:VEVENT
BEGIN:VTIMEZONE
TZID:Europe/Helsinki
X-LIC-LOCATION:Europe/Helsinki
BEGIN:DAYLIGHT
DTSTART:20250330T040000
TZOFFSETFROM:+0200
TZOFFSETTO:+0300
TZNAME:EEST
END:DAYLIGHT
END:VTIMEZONE
END:VCALENDAR