BEGIN:VCALENDAR
VERSION:2.0
PRODID:-//wp-events-plugin.com//7.2.3.1//EN
TZID:Europe/Helsinki
X-WR-TIMEZONE:Europe/Helsinki
BEGIN:VEVENT
UID:0-107@ilmailuliitto.fi
DTSTART;TZID=Europe/Helsinki:20260701T110000
DTEND;TZID=Europe/Helsinki:20260709T220000
DTSTAMP:20260401T075834Z
URL:https://ilmailuliitto.fi/tapahtumat/riippuliidon-sm-kisat/
SUMMARY:Riippuliidon SM-kisat
DESCRIPTION:Riippuliidon SM-kilpailuissa annetaan päivittäin annetaan len
 totehtävä\, jonka parhaiten suorittavat kilpailija saa eniten pisteitä.
  Kilpailun lopussa eniten pisteitä kerännyt voittaa Suomen mestaruuden. 
 Kisasivulta löytyy linkki liveseurantaan\, jossa näkee tehtävän kartal
 la ja kilpailijoiden sijainnit kisan aikana.
LOCATION:Jämin lentokenttä EFJM Jämintie 650\,  Jämintie 650\, Jämijä
 rvi\, Suomi
GEO:61.778256;22.715656
X-APPLE-STRUCTURED-LOCATION;VALUE=URI;X-ADDRESS= Jämintie 650\, Jämijärv
 i\, Suomi;X-APPLE-RADIUS=100;X-TITLE=Jämin lentokenttä EFJM Jämintie 65
 0:geo:61.778256,22.715656
END:VEVENT
BEGIN:VTIMEZONE
TZID:Europe/Helsinki
X-LIC-LOCATION:Europe/Helsinki
BEGIN:DAYLIGHT
DTSTART:20260329T040000
TZOFFSETFROM:+0200
TZOFFSETTO:+0300
TZNAME:EEST
END:DAYLIGHT
END:VTIMEZONE
END:VCALENDAR