BEGIN:VCALENDAR
VERSION:2.0
PRODID:-//wp-events-plugin.com//7.2.3.1//EN
TZID:Europe/Helsinki
X-WR-TIMEZONE:Europe/Helsinki
BEGIN:VEVENT
UID:0-100@ilmailuliitto.fi
DTSTART;TZID=Europe/Helsinki:20260523T090000
DTEND;TZID=Europe/Helsinki:20260523T180000
DTSTAMP:20260302T125313Z
URL:https://ilmailuliitto.fi/tapahtumat/taitolennokkikilpailu-f3a-fai-sm-1
 -3-f3a-nordic-ja-f3a-sport-suomen-cup-1-3-2/
SUMMARY:Taitolennokkikilpailu F3A FAI SM 1/3\, F3A Nordic ja F3A Sport Suom
 en cup 1/3
DESCRIPTION:Tapahtuman varapäivä on 24.5.2026. Taitolennokkien SM- sekä 
 Suomen Cup -osakilpailu luokissa F3A FAI\, F3A Nordic ja F3A Sport.
LOCATION:Paattinen\, Sakontie 170\, Paattinen \, Paattinen\, Suomi
GEO:60.595871;22.344223
X-APPLE-STRUCTURED-LOCATION;VALUE=URI;X-ADDRESS=Sakontie 170\, Paattinen \,
  Paattinen\, Suomi;X-APPLE-RADIUS=100;X-TITLE=Paattinen:geo:60.595871,22.3
 44223
END:VEVENT
BEGIN:VTIMEZONE
TZID:Europe/Helsinki
X-LIC-LOCATION:Europe/Helsinki
BEGIN:DAYLIGHT
DTSTART:20260329T040000
TZOFFSETFROM:+0200
TZOFFSETTO:+0300
TZNAME:EEST
END:DAYLIGHT
END:VTIMEZONE
END:VCALENDAR