BEGIN:VCALENDAR
VERSION:2.0
PRODID:-//wp-events-plugin.com//7.2.3.1//EN
TZID:Europe/Helsinki
X-WR-TIMEZONE:Europe/Helsinki
BEGIN:VEVENT
UID:0-102@ilmailuliitto.fi
DTSTART;TZID=Europe/Helsinki:20260615T090000
DTEND;TZID=Europe/Helsinki:20260619T233000
DTSTAMP:20260309T124949Z
URL:https://ilmailuliitto.fi/tapahtumat/tuhannus-skills-camp-laskuvarjohyp
 paajille/
SUMMARY:Tuhannus-skills camp laskuvarjohyppääjille
DESCRIPTION:Tule viettämään juhannusta Tundran kanssa Tuhannus -skills c
 ampille 15.–19.6. Alavuden Ilmailukerholle!\nSkills campilla keskitytä
 än kulman treenaamiseen ja dynaamisiin hyppypläneihin. Koutseina eventis
 sä toimivat Tundran omat Aaro Hilli\, Onni Veitola\, Lassi Lehesvuo\, Iir
 is Erkkilä ja Sami ’Minari’ Sucksdorff. Taatusti laadukkaat hyppyfoot
 aget ja boogievideon Tuhannuksesta toimittaa Jere Byman. Hyppykoneena toim
 ii Alavuden Ilmailukerhon oma tehopakkaus OH-ARR.
LOCATION:Alavuden lentokenttä\, Savikonkydöntie 129\, 63300 Alavus\, Alav
 us\, Suomi
GEO:62.55465;23.568456
X-APPLE-STRUCTURED-LOCATION;VALUE=URI;X-ADDRESS=Savikonkydöntie 129\, 6330
 0 Alavus\, Alavus\, Suomi;X-APPLE-RADIUS=100;X-TITLE=Alavuden lentokenttä
 :geo:62.55465,23.568456
END:VEVENT
BEGIN:VTIMEZONE
TZID:Europe/Helsinki
X-LIC-LOCATION:Europe/Helsinki
BEGIN:DAYLIGHT
DTSTART:20260329T040000
TZOFFSETFROM:+0200
TZOFFSETTO:+0300
TZNAME:EEST
END:DAYLIGHT
END:VTIMEZONE
END:VCALENDAR