BEGIN:VCALENDAR
VERSION:2.0
PRODID:-//wp-events-plugin.com//7.2.3.1//EN
TZID:Europe/Helsinki
X-WR-TIMEZONE:Europe/Helsinki
BEGIN:VEVENT
UID:0-91@ilmailuliitto.fi
DTSTART;TZID=Europe/Helsinki:20260330T120000
DTEND;TZID=Europe/Helsinki:20260405T120000
DTSTAMP:20260112T090729Z
URL:https://ilmailuliitto.fi/tapahtumat/tunturi-ilmailijoiden-suksilentole
 iri-xli-30-3-5-4-2026/
SUMMARY:Tunturi-Ilmailijoiden Suksilentoleiri XLI 30.3.–5.4.2026
DESCRIPTION:Tunturi-Ilmailijoiden perinteinen\, järjestyksessään jo 41. 
 Suksilentoleiri järjestetään tänä vuonna viikolla 14\, eli 30.3.—5.
 4.2026. Suksilentoleirin tukikohtana toimii aikaisempien vuosien tapaan Lo
 makylä Inari\, jonka edustalle Juutuanvuonolle lanataan laskeutumisia ja 
 lentoonlähtöjä varten kiitoratoja kolmeen eri suuntaan. Saapuvien ja l
 ähtevien koneiden on otettava huomioon mahdolliset kelkkailijat ja muut j
 äällä liikkujat! Inarin jakso on 123.500 MHz.\n\nOhjelmassa on jälleen
  mm. esittelypäivä Ivalon ja Inarin koululaisille\, pilkkiretkiä sekä 
 tietenkin vapaata lentämistä Suomen kauneimman kunnan maisemissa. Illat 
 keskitytään kuppilatiiman keräilyyn ja kuuntelemaan esitelmiä mitä mi
 elenkiintoisimmista aiheista ilmailun saralla.\n\nMajoitus tapahtuu edelli
 svuosien tyyliin Lomakylä Inarissa\, josta majoituksen voi varata etukood
 illa SUKSI26 12. tammikuuta lähtien aikavälille 29.3.—6.4.2026. Lisät
 ietoja majoituksista ja hinnat Tunturi-Ilmailijoiden kotisivuilta.\n\nIlmo
 ittautumiset Suksilentoleirille voi tehdä joko Henry Kestille (050-407555
 8) tai Tapani Lappalaiselle (0400-194729). Ilmoittautua voi myös tästä 
 linkistä.\n\nIlmoittautuneet lisätään Suksilentoleiri 2026 -WhatsApp-r
 yhmään\, jossa hoidetaan kaikki leiriin liittyvät asiat ja tiedottamine
 n. Tietoa tulee myös kerhon nettisivuille ja Facebook-sivuille. Tervetulo
 a lentämään Lapin hohtaville keväthangille viikolla 14!
LOCATION:Lomakylä Inari\, Lomakylä Inari\, Inarintie 26\, 99870 Inari\,  
 Inari\, 99870\, Suomi
GEO:68.902087;27.037445
X-APPLE-STRUCTURED-LOCATION;VALUE=URI;X-ADDRESS=Lomakylä Inari\, Inarintie
  26\, 99870 Inari\,  Inari\, 99870\, Suomi;X-APPLE-RADIUS=100;X-TITLE=Loma
 kylä Inari:geo:68.902087,27.037445
END:VEVENT
BEGIN:VTIMEZONE
TZID:Europe/Helsinki
X-LIC-LOCATION:Europe/Helsinki
BEGIN:DAYLIGHT
DTSTART:20260329T040000
TZOFFSETFROM:+0200
TZOFFSETTO:+0300
TZNAME:EEST
END:DAYLIGHT
END:VTIMEZONE
END:VCALENDAR