BEGIN:VCALENDAR
VERSION:2.0
PRODID:-//wp-events-plugin.com//7.2.3.1//EN
TZID:Europe/Helsinki
X-WR-TIMEZONE:Europe/Helsinki
BEGIN:VEVENT
UID:0-106@ilmailuliitto.fi
DTSTART;TZID=Europe/Helsinki:20260717T100000
DTEND;TZID=Europe/Helsinki:20260719T220000
DTSTAMP:20260401T075121Z
URL:https://ilmailuliitto.fi/tapahtumat/varjoliitocupin-osakilpailu-2-jami
 lla/
SUMMARY:Varjoliitocupin osakilpailu 2 Jämillä
DESCRIPTION:Tämä kilpailu on 2026 varjoliitoliigan osakilpailu 2 . Finnis
 h Open XC League Round 2 (XC=Cross Country=matkalento). Muut osakilpailut 
 ovat Vesivehmaa-Isolähde 12.–14.6. Oripää 1.-2.8. ja Pudasjärvi 7.
 –9.8.\n\nMatkalentotehtävä päätetään jokaisen kilpailupäivän aam
 upäivän aikana. Hinaukset kentällä alkavat noin 11–13 välillä ja v
 iimeinen kilpailija on laskeutunut maahan yleensä 20 mennessä. Suljetuss
 a tehtävässä koetetaan palata kentälle noin 60 km lennon jälkeen ja k
 un tuulee enemmän lennetään pääosin myötätuulen suuntaan 60–100 k
 m.
LOCATION:Jämijärvi\,  Jämin lentokenttä EFJM  Jämintie 650\, Jämijär
 vi\, Jämi\, Suomi
GEO:61.780695;22.722071
X-APPLE-STRUCTURED-LOCATION;VALUE=URI;X-ADDRESS= Jämin lentokenttä EFJM  
 Jämintie 650\, Jämijärvi\, Jämi\, Suomi;X-APPLE-RADIUS=100;X-TITLE=Jä
 mijärvi:geo:61.780695,22.722071
END:VEVENT
BEGIN:VTIMEZONE
TZID:Europe/Helsinki
X-LIC-LOCATION:Europe/Helsinki
BEGIN:DAYLIGHT
DTSTART:20260329T040000
TZOFFSETFROM:+0200
TZOFFSETTO:+0300
TZNAME:EEST
END:DAYLIGHT
END:VTIMEZONE
END:VCALENDAR